BEGIN:VCALENDAR
VERSION:2.0
PRODID:-//RobinSunflower.com - ECPv6.2.9//NONSGML v1.0//EN
CALSCALE:GREGORIAN
METHOD:PUBLISH
X-WR-CALNAME:RobinSunflower.com
X-ORIGINAL-URL:https://robinsunflower.com
X-WR-CALDESC:Events for RobinSunflower.com
REFRESH-INTERVAL;VALUE=DURATION:PT1H
X-Robots-Tag:noindex
X-PUBLISHED-TTL:PT1H
BEGIN:VTIMEZONE
TZID:UTC
BEGIN:STANDARD
TZOFFSETFROM:+0000
TZOFFSETTO:+0000
TZNAME:UTC
DTSTART:20230101T000000
END:STANDARD
END:VTIMEZONE
BEGIN:VEVENT
DTSTART;TZID=UTC:20230904T200000
DTEND;TZID=UTC:20230904T200000
DTSTAMP:20260424T160755
CREATED:20230828T115733Z
LAST-MODIFIED:20230829T122317Z
UID:40-1693857600-1693857600@robinsunflower.com
SUMMARY:Jasper Wilkinson(guitar-Baked A La Ska)
DESCRIPTION:
URL:https://robinsunflower.com/event/jasper-wilkinsonguitar-baked-a-la-ska-2/
LOCATION:The White House\, 1 Water Street\, Stalybridge\, SK15 2AG\, United Kingdom
CATEGORIES:Quack-Open mic & Guest.
END:VEVENT
BEGIN:VEVENT
DTSTART;TZID=UTC:20230905T203000
DTEND;TZID=UTC:20230905T203000
DTSTAMP:20260424T160755
CREATED:20230828T115732Z
LAST-MODIFIED:20230829T122302Z
UID:39-1693945800-1693945800@robinsunflower.com
SUMMARY:Jasper Wilkinson(guitar-Baked A La Ska)
DESCRIPTION:All styles served here\, but a good dose of ska is definitely on the menu
URL:https://robinsunflower.com/event/jasper-wilkinsonguitar-baked-a-la-ska/
LOCATION:Traders\, 113 Stockport Road\, Marple\, SK6 6AF\, United Kingdom
CATEGORIES:Quack-Open mic & Guest.
END:VEVENT
BEGIN:VEVENT
DTSTART;TZID=UTC:20230911T200000
DTEND;TZID=UTC:20230911T200000
DTSTAMP:20260424T160755
CREATED:20230828T115731Z
LAST-MODIFIED:20230829T122239Z
UID:38-1694462400-1694462400@robinsunflower.com
SUMMARY:SHQ- Susan Harris Quintet
DESCRIPTION:
URL:https://robinsunflower.com/event/shq-susan-harris-quintet-2/
LOCATION:The White House\, 1 Water Street\, Stalybridge\, SK15 2AG\, United Kingdom
CATEGORIES:Quack-Open mic & Guest.
END:VEVENT
BEGIN:VEVENT
DTSTART;TZID=UTC:20230912T203000
DTEND;TZID=UTC:20230912T203000
DTSTAMP:20260424T160755
CREATED:20230828T115731Z
LAST-MODIFIED:20230829T122212Z
UID:37-1694550600-1694550600@robinsunflower.com
SUMMARY:SHQ- Susan Harris Quintet
DESCRIPTION:Susan Harris (guitar and vocals) adds bass\, drums\,keys\, lead guitar to deliver her fine brand of heartfelt jazzy pop.
URL:https://robinsunflower.com/event/shq-susan-harris-quintet/
LOCATION:Traders\, 113 Stockport Road\, Marple\, SK6 6AF\, United Kingdom
CATEGORIES:Quack-Open mic & Guest.
END:VEVENT
BEGIN:VEVENT
DTSTART;TZID=UTC:20230918T200000
DTEND;TZID=UTC:20230918T200000
DTSTAMP:20260424T160755
CREATED:20230828T115730Z
LAST-MODIFIED:20230829T122143Z
UID:36-1695067200-1695067200@robinsunflower.com
SUMMARY:Pete Churchman
DESCRIPTION:
URL:https://robinsunflower.com/event/pete-churchman-2/
LOCATION:The White House\, 1 Water Street\, Stalybridge\, SK15 2AG\, United Kingdom
CATEGORIES:Quack-Open mic & Guest.
END:VEVENT
BEGIN:VEVENT
DTSTART;TZID=UTC:20230919T203000
DTEND;TZID=UTC:20230919T203000
DTSTAMP:20260424T160755
CREATED:20230828T115725Z
LAST-MODIFIED:20230829T122100Z
UID:34-1695155400-1695155400@robinsunflower.com
SUMMARY:Pete Churchman
DESCRIPTION:Laid back blues\, classic west coast sixties folk rock pop.A calming guitar and voice in a mad world.
URL:https://robinsunflower.com/event/pete-churchman/
LOCATION:Traders\, 113 Stockport Road\, Marple\, SK6 6AF\, United Kingdom
CATEGORIES:Quack-Open mic & Guest.
END:VEVENT
BEGIN:VEVENT
DTSTART;TZID=UTC:20230925T200000
DTEND;TZID=UTC:20230925T223000
DTSTAMP:20260424T160755
CREATED:20230924T130843Z
LAST-MODIFIED:20230924T130843Z
UID:1075-1695672000-1695681000@robinsunflower.com
SUMMARY:Andrzej Baranek
DESCRIPTION:Ace piano player makes his debut at Quack
URL:https://robinsunflower.com/event/andrzej-baranek/
LOCATION:The White House\, 1 Water Street\, Stalybridge\, SK15 2AG\, United Kingdom
CATEGORIES:Quack-Open mic & Guest.
END:VEVENT
BEGIN:VEVENT
DTSTART;TZID=UTC:20230926T203000
DTEND;TZID=UTC:20230926T230000
DTSTAMP:20260424T160755
CREATED:20230924T131038Z
LAST-MODIFIED:20230924T131038Z
UID:1077-1695760200-1695769200@robinsunflower.com
SUMMARY:Andrzej Baranek
DESCRIPTION:Ace piano player makes his debut at Quack
URL:https://robinsunflower.com/event/andrzej-baranek-2/
LOCATION:Traders\, 113 Stockport Road\, Marple\, SK6 6AF\, United Kingdom
CATEGORIES:Quack-Open mic & Guest.
END:VEVENT
BEGIN:VEVENT
DTSTART;TZID=UTC:20230927T220000
DTEND;TZID=UTC:20230927T220000
DTSTAMP:20260424T160755
CREATED:20230828T115725Z
LAST-MODIFIED:20230829T122035Z
UID:33-1695852000-1695852000@robinsunflower.com
SUMMARY:The Robin Sunflower Band
DESCRIPTION:Freewheeling gig… We promise to play exactly what we feel like on the night\nI’m joined by Dan Broad Guitar\, John Sandham Bass\, Iain Mellor drums… maybe a guest or two.
URL:https://robinsunflower.com/event/the-robin-sunflower-band-2/
LOCATION:Big Hands\, 296 Oxford Road\, Manchester\, M13 9NS\, United Kingdom
CATEGORIES:Monthly Residency since 2001
END:VEVENT
END:VCALENDAR