BEGIN:VCALENDAR
VERSION:2.0
PRODID:-//RobinSunflower.com - ECPv6.2.9//NONSGML v1.0//EN
CALSCALE:GREGORIAN
METHOD:PUBLISH
X-WR-CALNAME:RobinSunflower.com
X-ORIGINAL-URL:https://robinsunflower.com
X-WR-CALDESC:Events for RobinSunflower.com
REFRESH-INTERVAL;VALUE=DURATION:PT1H
X-Robots-Tag:noindex
X-PUBLISHED-TTL:PT1H
BEGIN:VTIMEZONE
TZID:UTC
BEGIN:STANDARD
TZOFFSETFROM:+0000
TZOFFSETTO:+0000
TZNAME:UTC
DTSTART:20170101T000000
END:STANDARD
END:VTIMEZONE
BEGIN:VEVENT
DTSTART;TZID=UTC:20170612T210000
DTEND;TZID=UTC:20170612T210000
DTSTAMP:20260423T082137
CREATED:20230828T124247Z
LAST-MODIFIED:20230828T124247Z
UID:709-1497301200-1497301200@robinsunflower.com
SUMMARY:Zoe Kyoti
DESCRIPTION:Originals and classics bossa/pop/folk…
URL:https://robinsunflower.com/event/zoe-kyoti-11/
CATEGORIES:Quack-Open mic & Guest.
END:VEVENT
BEGIN:VEVENT
DTSTART;TZID=UTC:20170606T210000
DTEND;TZID=UTC:20170606T210000
DTSTAMP:20260423T082137
CREATED:20230828T124248Z
LAST-MODIFIED:20230828T124248Z
UID:710-1496782800-1496782800@robinsunflower.com
SUMMARY:Jon Mambo
DESCRIPTION:Brazilian tunes plus Steely Dan on Spanish guitar/vocals
URL:https://robinsunflower.com/event/jon-mambo-9/
CATEGORIES:Quack-Open mic & Guest.
END:VEVENT
BEGIN:VEVENT
DTSTART;TZID=UTC:20170605T210000
DTEND;TZID=UTC:20170605T210000
DTSTAMP:20260423T082137
CREATED:20230828T124249Z
LAST-MODIFIED:20230828T124249Z
UID:711-1496696400-1496696400@robinsunflower.com
SUMMARY:Jon Mambo
DESCRIPTION:
URL:https://robinsunflower.com/event/jon-mambo-10/
CATEGORIES:Quack-Open mic & Guest.
END:VEVENT
BEGIN:VEVENT
DTSTART;TZID=UTC:20170603T210000
DTEND;TZID=UTC:20170603T210000
DTSTAMP:20260423T082137
CREATED:20230828T124253Z
LAST-MODIFIED:20230828T124253Z
UID:712-1496523600-1496523600@robinsunflower.com
SUMMARY:The Robin Sunflower Band
DESCRIPTION:
URL:https://robinsunflower.com/event/the-robin-sunflower-band-60/
END:VEVENT
BEGIN:VEVENT
DTSTART;TZID=UTC:20170531T220000
DTEND;TZID=UTC:20170531T220000
DTSTAMP:20260423T082137
CREATED:20230828T124254Z
LAST-MODIFIED:20230828T124254Z
UID:713-1496268000-1496268000@robinsunflower.com
SUMMARY:The Robin Sunflower Band
DESCRIPTION:
URL:https://robinsunflower.com/event/the-robin-sunflower-band-61/
CATEGORIES:Monthly Residency since 2001
END:VEVENT
BEGIN:VEVENT
DTSTART;TZID=UTC:20170530T210000
DTEND;TZID=UTC:20170530T210000
DTSTAMP:20260423T082137
CREATED:20230828T124255Z
LAST-MODIFIED:20230828T124255Z
UID:714-1496178000-1496178000@robinsunflower.com
SUMMARY:Charlie Ingham
DESCRIPTION:Teenage guitar/vocalist plays punk and easy listening…
URL:https://robinsunflower.com/event/charlie-ingham/
CATEGORIES:Quack-Open mic & Guest.
END:VEVENT
BEGIN:VEVENT
DTSTART;TZID=UTC:20170529T210000
DTEND;TZID=UTC:20170529T210000
DTSTAMP:20260423T082137
CREATED:20230828T124255Z
LAST-MODIFIED:20230828T124255Z
UID:715-1496091600-1496091600@robinsunflower.com
SUMMARY:Charlie Ingham
DESCRIPTION:
URL:https://robinsunflower.com/event/charlie-ingham-2/
CATEGORIES:Quack-Open mic & Guest.
END:VEVENT
BEGIN:VEVENT
DTSTART;TZID=UTC:20170528T200000
DTEND;TZID=UTC:20170528T200000
DTSTAMP:20260423T082137
CREATED:20230828T124256Z
LAST-MODIFIED:20230828T124256Z
UID:716-1496001600-1496001600@robinsunflower.com
SUMMARY:Half-Baked a la ska
DESCRIPTION:more details to follow
URL:https://robinsunflower.com/event/half-baked-a-la-ska-2/
END:VEVENT
BEGIN:VEVENT
DTSTART;TZID=UTC:20170523T210000
DTEND;TZID=UTC:20170523T210000
DTSTAMP:20260423T082137
CREATED:20230828T124258Z
LAST-MODIFIED:20230828T124258Z
UID:717-1495573200-1495573200@robinsunflower.com
SUMMARY:Claire Mooney
DESCRIPTION:Topical songwriter\, brimming with social comment
URL:https://robinsunflower.com/event/claire-mooney-11/
CATEGORIES:Quack-Open mic & Guest.
END:VEVENT
BEGIN:VEVENT
DTSTART;TZID=UTC:20170522T210000
DTEND;TZID=UTC:20170522T210000
DTSTAMP:20260423T082137
CREATED:20230828T124259Z
LAST-MODIFIED:20230828T124259Z
UID:718-1495486800-1495486800@robinsunflower.com
SUMMARY:Claire Mooney
DESCRIPTION:
URL:https://robinsunflower.com/event/claire-mooney-12/
CATEGORIES:Quack-Open mic & Guest.
END:VEVENT
BEGIN:VEVENT
DTSTART;TZID=UTC:20170516T210000
DTEND;TZID=UTC:20170516T210000
DTSTAMP:20260423T082137
CREATED:20230828T124300Z
LAST-MODIFIED:20230828T124300Z
UID:719-1494968400-1494968400@robinsunflower.com
SUMMARY:David Knopov
DESCRIPTION:Frank “the skank” Sinatra from Baked A La Ska band.
URL:https://robinsunflower.com/event/david-knopov-5/
CATEGORIES:Quack-Open mic & Guest.
END:VEVENT
BEGIN:VEVENT
DTSTART;TZID=UTC:20170515T210000
DTEND;TZID=UTC:20170515T210000
DTSTAMP:20260423T082137
CREATED:20230828T124300Z
LAST-MODIFIED:20230828T124300Z
UID:720-1494882000-1494882000@robinsunflower.com
SUMMARY:David Knopov
DESCRIPTION:
URL:https://robinsunflower.com/event/david-knopov-6/
CATEGORIES:Quack-Open mic & Guest.
END:VEVENT
BEGIN:VEVENT
DTSTART;TZID=UTC:20170513T190000
DTEND;TZID=UTC:20170513T190000
DTSTAMP:20260423T082137
CREATED:20230828T124301Z
LAST-MODIFIED:20230828T124301Z
UID:721-1494702000-1494702000@robinsunflower.com
SUMMARY:Baked A-La-Ska
DESCRIPTION:
URL:https://robinsunflower.com/event/baked-a-la-ska-58/
END:VEVENT
BEGIN:VEVENT
DTSTART;TZID=UTC:20170509T210000
DTEND;TZID=UTC:20170509T210000
DTSTAMP:20260423T082137
CREATED:20230828T124305Z
LAST-MODIFIED:20230828T124305Z
UID:722-1494363600-1494363600@robinsunflower.com
SUMMARY:Stevie Williams(-Bass\, guitar\, Vocals)
DESCRIPTION:Blues jazz classic groovy stuff
URL:https://robinsunflower.com/event/stevie-williams-bass-guitar-vocals-3/
CATEGORIES:Quack-Open mic & Guest.
END:VEVENT
BEGIN:VEVENT
DTSTART;TZID=UTC:20170508T210000
DTEND;TZID=UTC:20170508T210000
DTSTAMP:20260423T082137
CREATED:20230828T124306Z
LAST-MODIFIED:20230828T124306Z
UID:723-1494277200-1494277200@robinsunflower.com
SUMMARY:Stevie Williams(-Bass\, guitar\, Vocals)
DESCRIPTION:
URL:https://robinsunflower.com/event/stevie-williams-bass-guitar-vocals-4/
CATEGORIES:Quack-Open mic & Guest.
END:VEVENT
BEGIN:VEVENT
DTSTART;TZID=UTC:20170430T210000
DTEND;TZID=UTC:20170430T210000
DTSTAMP:20260423T082137
CREATED:20230828T124307Z
LAST-MODIFIED:20230828T124307Z
UID:724-1493586000-1493586000@robinsunflower.com
SUMMARY:Toots Thielemans Birthday Tribute Band
DESCRIPTION:Line Up for this gig:\nRobin Sunflower- Chromatic Harmonica\nJohn Ellis- Piano\nMatt Owens- Double Bass\nDanny Ward- Drums
URL:https://robinsunflower.com/event/toots-thielemans-birthday-tribute-band-24/
END:VEVENT
BEGIN:VEVENT
DTSTART;TZID=UTC:20170430T120000
DTEND;TZID=UTC:20170430T120000
DTSTAMP:20260423T082137
CREATED:20230828T124307Z
LAST-MODIFIED:20230828T124307Z
UID:725-1493553600-1493553600@robinsunflower.com
SUMMARY:Toots Thielemans Birthday Tribute Band
DESCRIPTION:Line Up for this gig:\nRobin Sunflower- Chromatic Harmonica\nJohn Ellis- Piano\nMatt Owens- Double Bass\nDanny Ward- Drums
URL:https://robinsunflower.com/event/toots-thielemans-birthday-tribute-band-25/
END:VEVENT
BEGIN:VEVENT
DTSTART;TZID=UTC:20170429T190000
DTEND;TZID=UTC:20170429T190000
DTSTAMP:20260423T082137
CREATED:20230828T124308Z
LAST-MODIFIED:20230828T124308Z
UID:726-1493492400-1493492400@robinsunflower.com
SUMMARY:Toots Thielemans Birthday Tribute Band
DESCRIPTION:Confirmed- The possibility of the venue being closed for refurbishment…will NOT affect this gig.\nLine up for this gig:\nRobin Sunflower- Chromatic Harmonica\nJohn Ellis- Piano\nJohn Sandham- Double Bass\nDanny Ward- Drums
URL:https://robinsunflower.com/event/toots-thielemans-birthday-tribute-band-26/
END:VEVENT
BEGIN:VEVENT
DTSTART;TZID=UTC:20170427T210000
DTEND;TZID=UTC:20170427T210000
DTSTAMP:20260423T082137
CREATED:20230828T124312Z
LAST-MODIFIED:20230828T124312Z
UID:727-1493326800-1493326800@robinsunflower.com
SUMMARY:Toots Thielemans Birthday Tribute Band
DESCRIPTION:Line up for this gig:\nRobin Sunflower- Chromatic Harmonica\nJohn Ellis- Piano\nMatt Owens- Double Bass\nDanny Ward- Drums
URL:https://robinsunflower.com/event/toots-thielemans-birthday-tribute-band-27/
END:VEVENT
BEGIN:VEVENT
DTSTART;TZID=UTC:20170426T210000
DTEND;TZID=UTC:20170426T210000
DTSTAMP:20260423T082137
CREATED:20230828T124313Z
LAST-MODIFIED:20230828T124313Z
UID:728-1493240400-1493240400@robinsunflower.com
SUMMARY:Toots Thielemans Birthday Tribute Band
DESCRIPTION:Line up for this gig;\nRobin Sunflower- Chromatic Harmonica\nRichard Weatherall- Piano\nMatt Owens- Double Bass\nDanny Ward- Drums
URL:https://robinsunflower.com/event/toots-thielemans-birthday-tribute-band-28/
CATEGORIES:Monthly Residency since 2001
END:VEVENT
BEGIN:VEVENT
DTSTART;TZID=UTC:20170425T210000
DTEND;TZID=UTC:20170425T210000
DTSTAMP:20260423T082137
CREATED:20230828T124314Z
LAST-MODIFIED:20230828T124314Z
UID:729-1493154000-1493154000@robinsunflower.com
SUMMARY:Toots Thielemans Birthday Tribute Band
DESCRIPTION:Line up for this gig;\nRobin Sunflower- Chromatic Harmonica\nJohn Ellis- Piano\nMatt Owens- Double Bass\nDanny Ward- Drums
URL:https://robinsunflower.com/event/toots-thielemans-birthday-tribute-band-29/
CATEGORIES:Quack-Open mic & Guest.
END:VEVENT
BEGIN:VEVENT
DTSTART;TZID=UTC:20170424T210000
DTEND;TZID=UTC:20170424T210000
DTSTAMP:20260423T082137
CREATED:20230828T124314Z
LAST-MODIFIED:20230828T124314Z
UID:730-1493067600-1493067600@robinsunflower.com
SUMMARY:Toots Thielemans Birthday Tribute Band
DESCRIPTION:Line up for this gig;\nRobin Sunflower- Chromatic Harmonica\nRichard Weatherall- Piano\nMatt Owens- Double Bass\nDanny Ward- Drums
URL:https://robinsunflower.com/event/toots-thielemans-birthday-tribute-band-30/
CATEGORIES:Quack-Open mic & Guest.
END:VEVENT
BEGIN:VEVENT
DTSTART;TZID=UTC:20170418T210000
DTEND;TZID=UTC:20170418T210000
DTSTAMP:20260423T082137
CREATED:20230828T124315Z
LAST-MODIFIED:20230828T124315Z
UID:731-1492549200-1492549200@robinsunflower.com
SUMMARY:Open Mic All Night-No guest this week-3 next week!
DESCRIPTION:
URL:https://robinsunflower.com/event/open-mic-all-night-no-guest-this-week-3-next-week/
CATEGORIES:Quack-Open mic & Guest.
END:VEVENT
BEGIN:VEVENT
DTSTART;TZID=UTC:20170417T210000
DTEND;TZID=UTC:20170417T210000
DTSTAMP:20260423T082137
CREATED:20230828T124317Z
LAST-MODIFIED:20230828T124317Z
UID:732-1492462800-1492462800@robinsunflower.com
SUMMARY:Iain Mellor Is Drum Crazy
DESCRIPTION:Easter Monday drum jam.Other instruments welcome\, but drummers especially…
URL:https://robinsunflower.com/event/iain-mellor-is-drum-crazy-2/
CATEGORIES:Quack-Open mic & Guest.
END:VEVENT
BEGIN:VEVENT
DTSTART;TZID=UTC:20170414T210000
DTEND;TZID=UTC:20170414T210000
DTSTAMP:20260423T082138
CREATED:20230828T124318Z
LAST-MODIFIED:20230828T124318Z
UID:733-1492203600-1492203600@robinsunflower.com
SUMMARY:Robin Sunflower & Mike Mellor
DESCRIPTION:
URL:https://robinsunflower.com/event/robin-sunflower-mike-mellor/
END:VEVENT
BEGIN:VEVENT
DTSTART;TZID=UTC:20170411T210000
DTEND;TZID=UTC:20170411T210000
DTSTAMP:20260423T082138
CREATED:20230828T124319Z
LAST-MODIFIED:20230828T124319Z
UID:734-1491944400-1491944400@robinsunflower.com
SUMMARY:Emma Black
DESCRIPTION:Original folk from Manchester based singer/songwriter
URL:https://robinsunflower.com/event/emma-black/
CATEGORIES:Quack-Open mic & Guest.
END:VEVENT
BEGIN:VEVENT
DTSTART;TZID=UTC:20170410T210000
DTEND;TZID=UTC:20170410T210000
DTSTAMP:20260423T082138
CREATED:20230828T124319Z
LAST-MODIFIED:20230828T124319Z
UID:735-1491858000-1491858000@robinsunflower.com
SUMMARY:Wragged Tree
DESCRIPTION:Hillary and Perry play country/folk/blues with a nod to Sandy Denny
URL:https://robinsunflower.com/event/wragged-tree/
CATEGORIES:Quack-Open mic & Guest.
END:VEVENT
BEGIN:VEVENT
DTSTART;TZID=UTC:20170408T200000
DTEND;TZID=UTC:20170408T200000
DTSTAMP:20260423T082138
CREATED:20230828T124320Z
LAST-MODIFIED:20230828T124320Z
UID:736-1491681600-1491681600@robinsunflower.com
SUMMARY:Sarah Winton
DESCRIPTION:
URL:https://robinsunflower.com/event/sarah-winton-2/
END:VEVENT
BEGIN:VEVENT
DTSTART;TZID=UTC:20170404T210000
DTEND;TZID=UTC:20170404T210000
DTSTAMP:20260423T082138
CREATED:20230828T124322Z
LAST-MODIFIED:20230828T124322Z
UID:737-1491339600-1491339600@robinsunflower.com
SUMMARY:Andy "Bulldog" Morel
DESCRIPTION:Sax player/vocalist from Baked A La Ska
URL:https://robinsunflower.com/event/andy-bulldog-morel-3/
CATEGORIES:Quack-Open mic & Guest.
END:VEVENT
BEGIN:VEVENT
DTSTART;TZID=UTC:20170403T210000
DTEND;TZID=UTC:20170403T210000
DTSTAMP:20260423T082138
CREATED:20230828T124323Z
LAST-MODIFIED:20230828T124323Z
UID:738-1491253200-1491253200@robinsunflower.com
SUMMARY:Andy "Bulldog" Morel
DESCRIPTION:
URL:https://robinsunflower.com/event/andy-bulldog-morel-4/
CATEGORIES:Quack-Open mic & Guest.
END:VEVENT
END:VCALENDAR