BEGIN:VCALENDAR
VERSION:2.0
PRODID:-//RobinSunflower.com - ECPv6.2.9//NONSGML v1.0//EN
CALSCALE:GREGORIAN
METHOD:PUBLISH
X-WR-CALNAME:RobinSunflower.com
X-ORIGINAL-URL:https://robinsunflower.com
X-WR-CALDESC:Events for RobinSunflower.com
REFRESH-INTERVAL;VALUE=DURATION:PT1H
X-Robots-Tag:noindex
X-PUBLISHED-TTL:PT1H
BEGIN:VTIMEZONE
TZID:UTC
BEGIN:STANDARD
TZOFFSETFROM:+0000
TZOFFSETTO:+0000
TZNAME:UTC
DTSTART:20170101T000000
END:STANDARD
END:VTIMEZONE
BEGIN:VEVENT
DTSTART;TZID=UTC:20170905T210000
DTEND;TZID=UTC:20170905T210000
DTSTAMP:20260423T003005
CREATED:20230828T124206Z
LAST-MODIFIED:20230828T124206Z
UID:675-1504645200-1504645200@robinsunflower.com
SUMMARY:Jon Mambo
DESCRIPTION:
URL:https://robinsunflower.com/event/jon-mambo-7/
CATEGORIES:Quack-Open mic & Guest.
END:VEVENT
BEGIN:VEVENT
DTSTART;TZID=UTC:20170904T210000
DTEND;TZID=UTC:20170904T210000
DTSTAMP:20260423T003005
CREATED:20230828T124207Z
LAST-MODIFIED:20230828T124207Z
UID:676-1504558800-1504558800@robinsunflower.com
SUMMARY:Jon Mambo
DESCRIPTION:
URL:https://robinsunflower.com/event/jon-mambo-8/
CATEGORIES:Quack-Open mic & Guest.
END:VEVENT
BEGIN:VEVENT
DTSTART;TZID=UTC:20170830T220000
DTEND;TZID=UTC:20170830T220000
DTSTAMP:20260423T003005
CREATED:20230828T124210Z
LAST-MODIFIED:20230828T124210Z
UID:677-1504130400-1504130400@robinsunflower.com
SUMMARY:The Robin Sunflower Band
DESCRIPTION:
URL:https://robinsunflower.com/event/the-robin-sunflower-band-56/
CATEGORIES:Monthly Residency since 2001
END:VEVENT
BEGIN:VEVENT
DTSTART;TZID=UTC:20170829T210000
DTEND;TZID=UTC:20170829T210000
DTSTAMP:20260423T003005
CREATED:20230828T124211Z
LAST-MODIFIED:20230828T124211Z
UID:678-1504040400-1504040400@robinsunflower.com
SUMMARY:George King
DESCRIPTION:Piano/vocals- Rock n roll\, swing\, blues…
URL:https://robinsunflower.com/event/george-king-11/
CATEGORIES:Quack-Open mic & Guest.
END:VEVENT
BEGIN:VEVENT
DTSTART;TZID=UTC:20170828T210000
DTEND;TZID=UTC:20170828T210000
DTSTAMP:20260423T003005
CREATED:20230828T124212Z
LAST-MODIFIED:20230828T124212Z
UID:679-1503954000-1503954000@robinsunflower.com
SUMMARY:George King
DESCRIPTION:
URL:https://robinsunflower.com/event/george-king-12/
CATEGORIES:Quack-Open mic & Guest.
END:VEVENT
BEGIN:VEVENT
DTSTART;TZID=UTC:20170822T210000
DTEND;TZID=UTC:20170822T210000
DTSTAMP:20260423T003005
CREATED:20230828T124212Z
LAST-MODIFIED:20230828T124212Z
UID:680-1503435600-1503435600@robinsunflower.com
SUMMARY:Lennox Bellows
DESCRIPTION:A mellow set from rock frontman from bands Far From The Dance and Apache Tears.
URL:https://robinsunflower.com/event/lennox-bellows-8/
CATEGORIES:Quack-Open mic & Guest.
END:VEVENT
BEGIN:VEVENT
DTSTART;TZID=UTC:20170821T210000
DTEND;TZID=UTC:20170821T210000
DTSTAMP:20260423T003005
CREATED:20230828T124213Z
LAST-MODIFIED:20230828T124213Z
UID:681-1503349200-1503349200@robinsunflower.com
SUMMARY:Lennox Bellows
DESCRIPTION:
URL:https://robinsunflower.com/event/lennox-bellows-9/
CATEGORIES:Quack-Open mic & Guest.
END:VEVENT
BEGIN:VEVENT
DTSTART;TZID=UTC:20170819T210000
DTEND;TZID=UTC:20170819T210000
DTSTAMP:20260423T003005
CREATED:20230828T124217Z
LAST-MODIFIED:20230828T124217Z
UID:682-1503176400-1503176400@robinsunflower.com
SUMMARY:Baked A-La-Ska
DESCRIPTION:GREAT line up of Ska/ Reggae acts at this all-dayer
URL:https://robinsunflower.com/event/baked-a-la-ska-53/
END:VEVENT
BEGIN:VEVENT
DTSTART;TZID=UTC:20170815T210000
DTEND;TZID=UTC:20170815T210000
DTSTAMP:20260423T003006
CREATED:20230828T124218Z
LAST-MODIFIED:20230828T124218Z
UID:683-1502830800-1502830800@robinsunflower.com
SUMMARY:Kessena Ringland
DESCRIPTION:Young guitar/vocalist with with one of my favourite voices ever.
URL:https://robinsunflower.com/event/kessena-ringland-6/
CATEGORIES:Quack-Open mic & Guest.
END:VEVENT
BEGIN:VEVENT
DTSTART;TZID=UTC:20170814T210000
DTEND;TZID=UTC:20170814T210000
DTSTAMP:20260423T003006
CREATED:20230828T124218Z
LAST-MODIFIED:20230828T124218Z
UID:684-1502744400-1502744400@robinsunflower.com
SUMMARY:Kessena Ringland
DESCRIPTION:
URL:https://robinsunflower.com/event/kessena-ringland-7/
CATEGORIES:Quack-Open mic & Guest.
END:VEVENT
BEGIN:VEVENT
DTSTART;TZID=UTC:20170812T210000
DTEND;TZID=UTC:20170812T210000
DTSTAMP:20260423T003006
CREATED:20230828T124219Z
LAST-MODIFIED:20230828T124219Z
UID:685-1502571600-1502571600@robinsunflower.com
SUMMARY:Baked A-La-Ska
DESCRIPTION:
URL:https://robinsunflower.com/event/baked-a-la-ska-54/
END:VEVENT
BEGIN:VEVENT
DTSTART;TZID=UTC:20170808T210000
DTEND;TZID=UTC:20170808T210000
DTSTAMP:20260423T003006
CREATED:20230828T124220Z
LAST-MODIFIED:20230828T124220Z
UID:686-1502226000-1502226000@robinsunflower.com
SUMMARY:The General
DESCRIPTION:“General” he is not….exceptional \, off the wall\, Zappa\, Elvis(costello)\, Syd Barrett\, original songs(mostly about cats\,but other subjects may be covered too)
URL:https://robinsunflower.com/event/the-general-7/
CATEGORIES:Quack-Open mic & Guest.
END:VEVENT
BEGIN:VEVENT
DTSTART;TZID=UTC:20170807T210000
DTEND;TZID=UTC:20170807T210000
DTSTAMP:20260423T003006
CREATED:20230828T124222Z
LAST-MODIFIED:20230828T124222Z
UID:687-1502139600-1502139600@robinsunflower.com
SUMMARY:The General
DESCRIPTION:
URL:https://robinsunflower.com/event/the-general-8/
CATEGORIES:Quack-Open mic & Guest.
END:VEVENT
BEGIN:VEVENT
DTSTART;TZID=UTC:20170805T210000
DTEND;TZID=UTC:20170805T210000
DTSTAMP:20260423T003006
CREATED:20230828T124223Z
LAST-MODIFIED:20230828T124223Z
UID:688-1501966800-1501966800@robinsunflower.com
SUMMARY:The Robin Sunflower Band
DESCRIPTION:
URL:https://robinsunflower.com/event/the-robin-sunflower-band-57/
END:VEVENT
BEGIN:VEVENT
DTSTART;TZID=UTC:20170804T220000
DTEND;TZID=UTC:20170804T220000
DTSTAMP:20260423T003006
CREATED:20230828T124223Z
LAST-MODIFIED:20230828T124223Z
UID:689-1501884000-1501884000@robinsunflower.com
SUMMARY:Baked A-La-Ska
DESCRIPTION:
URL:https://robinsunflower.com/event/baked-a-la-ska-55/
END:VEVENT
BEGIN:VEVENT
DTSTART;TZID=UTC:20170801T210000
DTEND;TZID=UTC:20170801T210000
DTSTAMP:20260423T003006
CREATED:20230828T124224Z
LAST-MODIFIED:20230828T124224Z
UID:690-1501621200-1501621200@robinsunflower.com
SUMMARY:Julie Edwards & Kevin Dearden
DESCRIPTION:one great voice\, one great guitarist\, one great act…
URL:https://robinsunflower.com/event/julie-edwards-kevin-dearden/
CATEGORIES:Quack-Open mic & Guest.
END:VEVENT
BEGIN:VEVENT
DTSTART;TZID=UTC:20170731T210000
DTEND;TZID=UTC:20170731T210000
DTSTAMP:20260423T003006
CREATED:20230828T124225Z
LAST-MODIFIED:20230828T124225Z
UID:691-1501534800-1501534800@robinsunflower.com
SUMMARY:Julie Edwards & Kevin Dearden
DESCRIPTION:
URL:https://robinsunflower.com/event/julie-edwards-kevin-dearden-2/
CATEGORIES:Quack-Open mic & Guest.
END:VEVENT
BEGIN:VEVENT
DTSTART;TZID=UTC:20170726T220000
DTEND;TZID=UTC:20170726T220000
DTSTAMP:20260423T003006
CREATED:20230828T124229Z
LAST-MODIFIED:20230828T124229Z
UID:692-1501106400-1501106400@robinsunflower.com
SUMMARY:The Robin Sunflower Band
DESCRIPTION:
URL:https://robinsunflower.com/event/the-robin-sunflower-band-58/
CATEGORIES:Monthly Residency since 2001
END:VEVENT
BEGIN:VEVENT
DTSTART;TZID=UTC:20170725T210000
DTEND;TZID=UTC:20170725T210000
DTSTAMP:20260423T003006
CREATED:20230828T124230Z
LAST-MODIFIED:20230828T124230Z
UID:693-1501016400-1501016400@robinsunflower.com
SUMMARY:Robin Sunflower's Birthday jam with John Ellis
DESCRIPTION:Baked A La Ska’s keyboard king joins me and who knows who else for a jam night with Vegan food too!
URL:https://robinsunflower.com/event/robin-sunflowers-birthday-jam-with-john-ellis/
CATEGORIES:Quack-Open mic & Guest.
END:VEVENT
BEGIN:VEVENT
DTSTART;TZID=UTC:20170724T210000
DTEND;TZID=UTC:20170724T210000
DTSTAMP:20260423T003006
CREATED:20230828T124230Z
LAST-MODIFIED:20230828T124230Z
UID:694-1500930000-1500930000@robinsunflower.com
SUMMARY:Clinton C Hey
DESCRIPTION:First time guest slot for highly recommended guitar/vocalist
URL:https://robinsunflower.com/event/clinton-c-hey/
CATEGORIES:Quack-Open mic & Guest.
END:VEVENT
BEGIN:VEVENT
DTSTART;TZID=UTC:20170722T210000
DTEND;TZID=UTC:20170722T210000
DTSTAMP:20260423T003006
CREATED:20230828T124231Z
LAST-MODIFIED:20230828T124231Z
UID:695-1500757200-1500757200@robinsunflower.com
SUMMARY:Baked A-La-Ska
DESCRIPTION:Butterfly Project Refugee Benefit with support from Lazlo Baby
URL:https://robinsunflower.com/event/baked-a-la-ska-56/
END:VEVENT
BEGIN:VEVENT
DTSTART;TZID=UTC:20170718T210000
DTEND;TZID=UTC:20170718T210000
DTSTAMP:20260423T003006
CREATED:20230828T124232Z
LAST-MODIFIED:20230828T124232Z
UID:696-1500411600-1500411600@robinsunflower.com
SUMMARY:John Taylor
DESCRIPTION:sax\,flute\,squeezebox\,vocals-reggae\,jazz\,folk\,blues…
URL:https://robinsunflower.com/event/john-taylor-6/
CATEGORIES:Quack-Open mic & Guest.
END:VEVENT
BEGIN:VEVENT
DTSTART;TZID=UTC:20170717T210000
DTEND;TZID=UTC:20170717T210000
DTSTAMP:20260423T003006
CREATED:20230828T124236Z
LAST-MODIFIED:20230828T124236Z
UID:697-1500325200-1500325200@robinsunflower.com
SUMMARY:John Taylor
DESCRIPTION:
URL:https://robinsunflower.com/event/john-taylor-7/
CATEGORIES:Quack-Open mic & Guest.
END:VEVENT
BEGIN:VEVENT
DTSTART;TZID=UTC:20170711T210000
DTEND;TZID=UTC:20170711T210000
DTSTAMP:20260423T003006
CREATED:20230828T124236Z
LAST-MODIFIED:20230828T124236Z
UID:698-1499806800-1499806800@robinsunflower.com
SUMMARY:Danny Blomeley-(guitar-Kyla Brox)
DESCRIPTION:Guitarist/Bass player
URL:https://robinsunflower.com/event/danny-blomeley-guitar-kyla-brox-3/
CATEGORIES:Quack-Open mic & Guest.
END:VEVENT
BEGIN:VEVENT
DTSTART;TZID=UTC:20170710T210000
DTEND;TZID=UTC:20170710T210000
DTSTAMP:20260423T003006
CREATED:20230828T124237Z
LAST-MODIFIED:20230828T124237Z
UID:699-1499720400-1499720400@robinsunflower.com
SUMMARY:Danny Blomeley-(guitar-Kyla Brox)
DESCRIPTION:
URL:https://robinsunflower.com/event/danny-blomeley-guitar-kyla-brox-4/
CATEGORIES:Quack-Open mic & Guest.
END:VEVENT
BEGIN:VEVENT
DTSTART;TZID=UTC:20170704T210000
DTEND;TZID=UTC:20170704T210000
DTSTAMP:20260423T003006
CREATED:20230828T124238Z
LAST-MODIFIED:20230828T124238Z
UID:700-1499202000-1499202000@robinsunflower.com
SUMMARY:Matt Jacques
DESCRIPTION:singer/songwriter\, guitar/vocalist
URL:https://robinsunflower.com/event/matt-jacques/
CATEGORIES:Quack-Open mic & Guest.
END:VEVENT
BEGIN:VEVENT
DTSTART;TZID=UTC:20170703T210000
DTEND;TZID=UTC:20170703T210000
DTSTAMP:20260423T003007
CREATED:20230828T124239Z
LAST-MODIFIED:20230828T124239Z
UID:701-1499115600-1499115600@robinsunflower.com
SUMMARY:Matt Jacques
DESCRIPTION:
URL:https://robinsunflower.com/event/matt-jacques-2/
CATEGORIES:Quack-Open mic & Guest.
END:VEVENT
BEGIN:VEVENT
DTSTART;TZID=UTC:20170629T210000
DTEND;TZID=UTC:20170629T210000
DTSTAMP:20260423T003007
CREATED:20230828T124241Z
LAST-MODIFIED:20230828T124241Z
UID:702-1498770000-1498770000@robinsunflower.com
SUMMARY:Baked A-La-Ska
DESCRIPTION:
URL:https://robinsunflower.com/event/baked-a-la-ska-57/
END:VEVENT
BEGIN:VEVENT
DTSTART;TZID=UTC:20170628T220000
DTEND;TZID=UTC:20170628T220000
DTSTAMP:20260423T003007
CREATED:20230828T124242Z
LAST-MODIFIED:20230828T124242Z
UID:703-1498687200-1498687200@robinsunflower.com
SUMMARY:The Robin Sunflower Band
DESCRIPTION:
URL:https://robinsunflower.com/event/the-robin-sunflower-band-59/
CATEGORIES:Monthly Residency since 2001
END:VEVENT
BEGIN:VEVENT
DTSTART;TZID=UTC:20170627T210000
DTEND;TZID=UTC:20170627T210000
DTSTAMP:20260423T003007
CREATED:20230828T124242Z
LAST-MODIFIED:20230828T124242Z
UID:704-1498597200-1498597200@robinsunflower.com
SUMMARY:Mike Mellor
DESCRIPTION:Originals and covers blues/jazz/reggae/ gitar/vocals
URL:https://robinsunflower.com/event/mike-mellor-8/
CATEGORIES:Quack-Open mic & Guest.
END:VEVENT
END:VCALENDAR