BEGIN:VCALENDAR
VERSION:2.0
PRODID:-//RobinSunflower.com - ECPv6.2.9//NONSGML v1.0//EN
CALSCALE:GREGORIAN
METHOD:PUBLISH
X-WR-CALNAME:RobinSunflower.com
X-ORIGINAL-URL:https://robinsunflower.com
X-WR-CALDESC:Events for RobinSunflower.com
REFRESH-INTERVAL;VALUE=DURATION:PT1H
X-Robots-Tag:noindex
X-PUBLISHED-TTL:PT1H
BEGIN:VTIMEZONE
TZID:UTC
BEGIN:STANDARD
TZOFFSETFROM:+0000
TZOFFSETTO:+0000
TZNAME:UTC
DTSTART:20230101T000000
END:STANDARD
END:VTIMEZONE
BEGIN:VEVENT
DTSTART;TZID=UTC:20230110T203000
DTEND;TZID=UTC:20230110T203000
DTSTAMP:20260421T080105
CREATED:20230828T120217Z
LAST-MODIFIED:20230828T120217Z
UID:141-1673382600-1673382600@robinsunflower.com
SUMMARY:To Be Arranged
DESCRIPTION:No idea who will be with me. But it will be someone brilliant 😜
URL:https://robinsunflower.com/event/to-be-arranged-2/
CATEGORIES:Quack-Open mic & Guest.
END:VEVENT
END:VCALENDAR