BEGIN:VCALENDAR
VERSION:2.0
PRODID:-//RobinSunflower.com - ECPv6.2.9//NONSGML v1.0//EN
CALSCALE:GREGORIAN
METHOD:PUBLISH
X-WR-CALNAME:RobinSunflower.com
X-ORIGINAL-URL:https://robinsunflower.com
X-WR-CALDESC:Events for RobinSunflower.com
REFRESH-INTERVAL;VALUE=DURATION:PT1H
X-Robots-Tag:noindex
X-PUBLISHED-TTL:PT1H
BEGIN:VTIMEZONE
TZID:UTC
BEGIN:STANDARD
TZOFFSETFROM:+0000
TZOFFSETTO:+0000
TZNAME:UTC
DTSTART:20260101T000000
END:STANDARD
END:VTIMEZONE
BEGIN:VEVENT
DTSTART;TZID=UTC:20260302T203000
DTEND;TZID=UTC:20260302T223000
DTSTAMP:20260422T103532
CREATED:20260227T123118Z
LAST-MODIFIED:20260227T123118Z
UID:1784-1772483400-1772490600@robinsunflower.com
SUMMARY:Robin Joiner
DESCRIPTION:Great piano player from the Manchester scene.
URL:https://robinsunflower.com/event/robin-joiner/
LOCATION:The White House\, 1 Water Street\, Stalybridge\, SK15 2AG\, United Kingdom
CATEGORIES:Quack-Open mic & Guest.
END:VEVENT
BEGIN:VEVENT
DTSTART;TZID=UTC:20260303T203000
DTEND;TZID=UTC:20260303T230000
DTSTAMP:20260422T103532
CREATED:20260227T123300Z
LAST-MODIFIED:20260227T123300Z
UID:1786-1772569800-1772578800@robinsunflower.com
SUMMARY:Robin Joiner
DESCRIPTION:Great piano player from the Manchester scene.
URL:https://robinsunflower.com/event/robin-joiner-2/
LOCATION:Aggies Bar\, 54\, Market Street\, Marple\, Stockport\, SK6 7AD\, United Kingdom
CATEGORIES:Quack-Open mic & Guest.
END:VEVENT
BEGIN:VEVENT
DTSTART;TZID=UTC:20260309T203000
DTEND;TZID=UTC:20260309T223000
DTSTAMP:20260422T103532
CREATED:20260227T123605Z
LAST-MODIFIED:20260227T123605Z
UID:1788-1773088200-1773095400@robinsunflower.com
SUMMARY:Amanda Jane Heywood and Andy Millington
DESCRIPTION:Soulful blues from a great singer and great guitarist.
URL:https://robinsunflower.com/event/amanda-jane-heywood-and-andy-millington-3/
LOCATION:The White House\, 1 Water Street\, Stalybridge\, SK15 2AG\, United Kingdom
CATEGORIES:Quack-Open mic & Guest.
END:VEVENT
BEGIN:VEVENT
DTSTART;TZID=UTC:20260310T203000
DTEND;TZID=UTC:20260310T230000
DTSTAMP:20260422T103532
CREATED:20260227T123757Z
LAST-MODIFIED:20260227T123757Z
UID:1790-1773174600-1773183600@robinsunflower.com
SUMMARY:Amanda Jane Heywood and Andy Millington
DESCRIPTION:Soulful blues from a great singer and great guitarist.
URL:https://robinsunflower.com/event/amanda-jane-heywood-and-andy-millington-4/
LOCATION:Aggies Bar\, 54\, Market Street\, Marple\, Stockport\, SK6 7AD\, United Kingdom
CATEGORIES:Quack-Open mic & Guest.
END:VEVENT
BEGIN:VEVENT
DTSTART;TZID=UTC:20260316T203000
DTEND;TZID=UTC:20260316T223000
DTSTAMP:20260422T103532
CREATED:20260227T124552Z
LAST-MODIFIED:20260227T124552Z
UID:1792-1773693000-1773700200@robinsunflower.com
SUMMARY:Baris Ben Firat
DESCRIPTION:American born Manchester based guitar vocalist plays originals and covers\, covering country\, pop\, rock and folk. His debut album Rise is on all streaming platforms.
URL:https://robinsunflower.com/event/baris-ben-firat/
LOCATION:The White House\, 1 Water Street\, Stalybridge\, SK15 2AG\, United Kingdom
CATEGORIES:Quack-Open mic & Guest.
END:VEVENT
BEGIN:VEVENT
DTSTART;TZID=UTC:20260317T203000
DTEND;TZID=UTC:20260317T230000
DTSTAMP:20260422T103532
CREATED:20260227T125005Z
LAST-MODIFIED:20260227T125005Z
UID:1794-1773779400-1773788400@robinsunflower.com
SUMMARY:Baris Ben Firat
DESCRIPTION:American born Manchester based guitar vocalist plays originals and covers\, covering country\, pop\, rock and folk. His debut album Rise is on all streaming platforms.
URL:https://robinsunflower.com/event/baris-ben-firat-2/
LOCATION:Aggies Bar\, 54\, Market Street\, Marple\, Stockport\, SK6 7AD\, United Kingdom
CATEGORIES:Quack-Open mic & Guest.
END:VEVENT
BEGIN:VEVENT
DTSTART;TZID=UTC:20260323T203000
DTEND;TZID=UTC:20260323T223000
DTSTAMP:20260422T103532
CREATED:20260227T125434Z
LAST-MODIFIED:20260227T125434Z
UID:1796-1774297800-1774305000@robinsunflower.com
SUMMARY:Richard Hollington
DESCRIPTION:Passionate singer guitarist plays Allman Brothers\, Little Feat\, The Jam\, Christy Moore and originals.
URL:https://robinsunflower.com/event/richard-hollington-5/
LOCATION:The White House\, 1 Water Street\, Stalybridge\, SK15 2AG\, United Kingdom
CATEGORIES:Quack-Open mic & Guest.
END:VEVENT
BEGIN:VEVENT
DTSTART;TZID=UTC:20260324T203000
DTEND;TZID=UTC:20260324T230000
DTSTAMP:20260422T103532
CREATED:20260227T125749Z
LAST-MODIFIED:20260227T125749Z
UID:1798-1774384200-1774393200@robinsunflower.com
SUMMARY:Richard Hollington
DESCRIPTION:Passionate singer guitarist plays Allman Brothers\, Little Feat\, The Jam\, Christy Moore and originals.
URL:https://robinsunflower.com/event/richard-hollington-6/
LOCATION:Aggies Bar\, 54\, Market Street\, Marple\, Stockport\, SK6 7AD\, United Kingdom
CATEGORIES:Quack-Open mic & Guest.
END:VEVENT
BEGIN:VEVENT
DTSTART;TZID=UTC:20260330T203000
DTEND;TZID=UTC:20260330T220000
DTSTAMP:20260422T103532
CREATED:20260227T131049Z
LAST-MODIFIED:20260324T162211Z
UID:1804-1774902600-1774908000@robinsunflower.com
SUMMARY:Tom Hingley
DESCRIPTION:Ex lead singer and songwriter for Inspiral Carpets.
URL:https://robinsunflower.com/event/tas-5/
LOCATION:The White House\, 1 Water Street\, Stalybridge\, SK15 2AG\, United Kingdom
CATEGORIES:Quack-Open mic & Guest.
END:VEVENT
BEGIN:VEVENT
DTSTART;TZID=UTC:20260331T203000
DTEND;TZID=UTC:20260331T230000
DTSTAMP:20260422T103532
CREATED:20260227T131232Z
LAST-MODIFIED:20260324T162411Z
UID:1806-1774989000-1774998000@robinsunflower.com
SUMMARY:Tom Hingley
DESCRIPTION:Ex lead singer and songwriter for Inspiral Carpets.
URL:https://robinsunflower.com/event/tas-6/
LOCATION:Aggies Bar\, 54\, Market Street\, Marple\, Stockport\, SK6 7AD\, United Kingdom
CATEGORIES:Quack-Open mic & Guest.
END:VEVENT
END:VCALENDAR