BEGIN:VCALENDAR
VERSION:2.0
PRODID:-//RobinSunflower.com - ECPv6.2.9//NONSGML v1.0//EN
CALSCALE:GREGORIAN
METHOD:PUBLISH
X-ORIGINAL-URL:https://robinsunflower.com
X-WR-CALDESC:Events for RobinSunflower.com
REFRESH-INTERVAL;VALUE=DURATION:PT1H
X-Robots-Tag:noindex
X-PUBLISHED-TTL:PT1H
BEGIN:VTIMEZONE
TZID:UTC
BEGIN:STANDARD
TZOFFSETFROM:+0000
TZOFFSETTO:+0000
TZNAME:UTC
DTSTART:20240101T000000
END:STANDARD
END:VTIMEZONE
BEGIN:VEVENT
DTSTART;TZID=UTC:20240527T200000
DTEND;TZID=UTC:20240527T223000
DTSTAMP:20260425T000542
CREATED:20240411T174046Z
LAST-MODIFIED:20240411T174046Z
UID:1257-1716840000-1716849000@robinsunflower.com
SUMMARY:Nick Bold
DESCRIPTION:Songs by George Harrison and other 60s/70s acts plus originals
URL:https://robinsunflower.com/event/nick-bold-2/
LOCATION:The White House\, 1 Water Street\, Stalybridge\, SK15 2AG\, United Kingdom
CATEGORIES:Quack-Open mic & Guest.
END:VEVENT
END:VCALENDAR