BEGIN:VCALENDAR
VERSION:2.0
PRODID:-//RobinSunflower.com - ECPv6.2.9//NONSGML v1.0//EN
CALSCALE:GREGORIAN
METHOD:PUBLISH
X-ORIGINAL-URL:https://robinsunflower.com
X-WR-CALDESC:Events for RobinSunflower.com
REFRESH-INTERVAL;VALUE=DURATION:PT1H
X-Robots-Tag:noindex
X-PUBLISHED-TTL:PT1H
BEGIN:VTIMEZONE
TZID:UTC
BEGIN:STANDARD
TZOFFSETFROM:+0000
TZOFFSETTO:+0000
TZNAME:UTC
DTSTART:20240101T000000
END:STANDARD
END:VTIMEZONE
BEGIN:VEVENT
DTSTART;TZID=UTC:20240422T200000
DTEND;TZID=UTC:20240422T223000
DTSTAMP:20260422T021758
CREATED:20240411T172727Z
LAST-MODIFIED:20240411T172727Z
UID:1247-1713816000-1713825000@robinsunflower.com
SUMMARY:Tracey Brown
DESCRIPTION:Session singer with Thea Gilmore performs her original songs
URL:https://robinsunflower.com/event/tracey-brown/
LOCATION:The White House\, 1 Water Street\, Stalybridge\, SK15 2AG\, United Kingdom
CATEGORIES:Quack-Open mic & Guest.
END:VEVENT
END:VCALENDAR