BEGIN:VCALENDAR
VERSION:2.0
PRODID:-//RobinSunflower.com - ECPv6.2.9//NONSGML v1.0//EN
CALSCALE:GREGORIAN
METHOD:PUBLISH
X-WR-CALNAME:RobinSunflower.com
X-ORIGINAL-URL:https://robinsunflower.com
X-WR-CALDESC:Events for RobinSunflower.com
REFRESH-INTERVAL;VALUE=DURATION:PT1H
X-Robots-Tag:noindex
X-PUBLISHED-TTL:PT1H
BEGIN:VTIMEZONE
TZID:UTC
BEGIN:STANDARD
TZOFFSETFROM:+0000
TZOFFSETTO:+0000
TZNAME:UTC
DTSTART:20230101T000000
END:STANDARD
END:VTIMEZONE
BEGIN:VEVENT
DTSTART;TZID=UTC:20230806T160000
DTEND;TZID=UTC:20230806T160000
DTSTAMP:20260425T203927
CREATED:20230828T115816Z
LAST-MODIFIED:20230828T115816Z
UID:52-1691337600-1691337600@robinsunflower.com
SUMMARY:Sunflower and Ingram quartet
DESCRIPTION:
URL:https://robinsunflower.com/event/sunflower-and-ingram-quartet-2/
END:VEVENT
BEGIN:VEVENT
DTSTART;TZID=UTC:20230806T160000
DTEND;TZID=UTC:20230806T160000
DTSTAMP:20260425T203928
CREATED:20230828T115816Z
LAST-MODIFIED:20230828T115816Z
UID:53-1691337600-1691337600@robinsunflower.com
SUMMARY:Sunflower and Ingram quartet
DESCRIPTION:
URL:https://robinsunflower.com/event/sunflower-and-ingram-quartet-3/
END:VEVENT
END:VCALENDAR