BEGIN:VCALENDAR
VERSION:2.0
PRODID:-//RobinSunflower.com - ECPv6.2.9//NONSGML v1.0//EN
CALSCALE:GREGORIAN
METHOD:PUBLISH
X-WR-CALNAME:RobinSunflower.com
X-ORIGINAL-URL:https://robinsunflower.com
X-WR-CALDESC:Events for RobinSunflower.com
REFRESH-INTERVAL;VALUE=DURATION:PT1H
X-Robots-Tag:noindex
X-PUBLISHED-TTL:PT1H
BEGIN:VTIMEZONE
TZID:UTC
BEGIN:STANDARD
TZOFFSETFROM:+0000
TZOFFSETTO:+0000
TZNAME:UTC
DTSTART:20230101T000000
END:STANDARD
END:VTIMEZONE
BEGIN:VEVENT
DTSTART;TZID=UTC:20230731T200000
DTEND;TZID=UTC:20230731T200000
DTSTAMP:20260426T035323
CREATED:20230828T115818Z
LAST-MODIFIED:20230828T115818Z
UID:55-1690833600-1690833600@robinsunflower.com
SUMMARY:Sarah Winton and Colin Rocks (The Cogs)
DESCRIPTION:Blues and soul piano and xdrums with etheric vocals original songs too.
URL:https://robinsunflower.com/event/sarah-winton-and-colin-rocks-the-cogs/
CATEGORIES:Quack-Open mic & Guest.
END:VEVENT
END:VCALENDAR